BEGIN:VCALENDAR
VERSION:2.0
PRODID:-//Zero Emission Bus Resource Alliance - ECPv6.15.20//NONSGML v1.0//EN
CALSCALE:GREGORIAN
METHOD:PUBLISH
X-ORIGINAL-URL:https://zebragrp.org
X-WR-CALDESC:Events for Zero Emission Bus Resource Alliance
REFRESH-INTERVAL;VALUE=DURATION:PT1H
X-Robots-Tag:noindex
X-PUBLISHED-TTL:PT1H
BEGIN:VTIMEZONE
TZID:UTC
BEGIN:STANDARD
TZOFFSETFROM:+0000
TZOFFSETTO:+0000
TZNAME:UTC
DTSTART:20170101T000000
END:STANDARD
END:VTIMEZONE
BEGIN:VTIMEZONE
TZID:America/New_York
BEGIN:DAYLIGHT
TZOFFSETFROM:-0500
TZOFFSETTO:-0400
TZNAME:EDT
DTSTART:20210314T070000
END:DAYLIGHT
BEGIN:STANDARD
TZOFFSETFROM:-0400
TZOFFSETTO:-0500
TZNAME:EST
DTSTART:20211107T060000
END:STANDARD
BEGIN:DAYLIGHT
TZOFFSETFROM:-0500
TZOFFSETTO:-0400
TZNAME:EDT
DTSTART:20220313T070000
END:DAYLIGHT
BEGIN:STANDARD
TZOFFSETFROM:-0400
TZOFFSETTO:-0500
TZNAME:EST
DTSTART:20221106T060000
END:STANDARD
BEGIN:DAYLIGHT
TZOFFSETFROM:-0500
TZOFFSETTO:-0400
TZNAME:EDT
DTSTART:20230312T070000
END:DAYLIGHT
BEGIN:STANDARD
TZOFFSETFROM:-0400
TZOFFSETTO:-0500
TZNAME:EST
DTSTART:20231105T060000
END:STANDARD
END:VTIMEZONE
BEGIN:VTIMEZONE
TZID:Atlantic/South_Georgia
BEGIN:STANDARD
TZOFFSETFROM:-0200
TZOFFSETTO:-0200
TZNAME:-02
DTSTART:20200101T000000
END:STANDARD
END:VTIMEZONE
BEGIN:VTIMEZONE
TZID:America/Los_Angeles
BEGIN:DAYLIGHT
TZOFFSETFROM:-0800
TZOFFSETTO:-0700
TZNAME:PDT
DTSTART:20190310T100000
END:DAYLIGHT
BEGIN:STANDARD
TZOFFSETFROM:-0700
TZOFFSETTO:-0800
TZNAME:PST
DTSTART:20191103T090000
END:STANDARD
BEGIN:DAYLIGHT
TZOFFSETFROM:-0800
TZOFFSETTO:-0700
TZNAME:PDT
DTSTART:20200308T100000
END:DAYLIGHT
BEGIN:STANDARD
TZOFFSETFROM:-0700
TZOFFSETTO:-0800
TZNAME:PST
DTSTART:20201101T090000
END:STANDARD
BEGIN:DAYLIGHT
TZOFFSETFROM:-0800
TZOFFSETTO:-0700
TZNAME:PDT
DTSTART:20210314T100000
END:DAYLIGHT
BEGIN:STANDARD
TZOFFSETFROM:-0700
TZOFFSETTO:-0800
TZNAME:PST
DTSTART:20211107T090000
END:STANDARD
END:VTIMEZONE
BEGIN:VEVENT
DTSTART;TZID=UTC:20220512T140000
DTEND;TZID=UTC:20220512T150000
DTSTAMP:20260426T014658
CREATED:20211230T194840Z
LAST-MODIFIED:20220110T033742Z
UID:857-1652364000-1652367600@zebragrp.org
SUMMARY:Executive Council Meeting
DESCRIPTION:This meeting gathers all of ZEBRA’s executive council members to discuss upcoming events. \nAll event times are in Eastern Standard Time Zone.
URL:https://zebragrp.org/event/executive-council-meeting-8/
ORGANIZER;CN="Chloe Durham":MAILTO:Chloe@cte.tv
END:VEVENT
BEGIN:VEVENT
DTSTART;TZID=UTC:20220421T153000
DTEND;TZID=UTC:20220421T163000
DTSTAMP:20260426T014658
CREATED:20211230T195623Z
LAST-MODIFIED:20220110T033809Z
UID:865-1650555000-1650558600@zebragrp.org
SUMMARY:Full Membership WebEx Meeting
DESCRIPTION:Bi-monthly meetings gather all of ZEBRA membership to hear technical presentations focused on industry concepts and member ZEB deployment updates. \nAll event times are in Eastern Standard Time Zone.
URL:https://zebragrp.org/event/full-membership-webex-meeting-5/
ORGANIZER;CN="Chloe Durham":MAILTO:Chloe@cte.tv
END:VEVENT
BEGIN:VEVENT
DTSTART;TZID=America/New_York:20220408T130000
DTEND;TZID=America/New_York:20220408T140000
DTSTAMP:20260426T014658
CREATED:20220308T215641Z
LAST-MODIFIED:20220309T013236Z
UID:967-1649422800-1649426400@zebragrp.org
SUMMARY:Advocacy Subcommittee Meeting
DESCRIPTION:Monthly meetings gather ZEBRA’s advocacy subcommittee members to coordinate legislative policies and priorities. \nAll event times are in Eastern Standard Time Zone.
URL:https://zebragrp.org/event/advocacy-subcommittee-meeting/
CATEGORIES:Advocacy Subcommittee Meetings
ORGANIZER;CN="Jen Lehmann":MAILTO:Jen@cte.tv
END:VEVENT
BEGIN:VEVENT
DTSTART;VALUE=DATE:20220313
DTEND;VALUE=DATE:20220316
DTSTAMP:20260426T014658
CREATED:20220217T204043Z
LAST-MODIFIED:20220217T204043Z
UID:931-1647129600-1647388799@zebragrp.org
SUMMARY:APTA Legislative Conference
DESCRIPTION:The Legislative Conference is an opportunity for public transportation industry professionals across the nation to make our presence felt and our voices heard in Washington\, DC. The Conference helps educate APTA members on important federal legislation and policy initiatives and affords an unparalleled opportunity to shape the industry’s positions and federal advocacy agenda.
URL:https://zebragrp.org/event/apta-legislative-conference/
LOCATION:Washington\, DC
ORGANIZER;CN="Jen Lehmann":MAILTO:Jen@cte.tv
END:VEVENT
BEGIN:VEVENT
DTSTART;TZID=America/New_York:20220311T130000
DTEND;TZID=America/New_York:20220311T140000
DTSTAMP:20260426T014658
CREATED:20220309T012604Z
LAST-MODIFIED:20220309T012819Z
UID:969-1647003600-1647007200@zebragrp.org
SUMMARY:Advocacy Subcommittee Meeting
DESCRIPTION:Monthly meetings gather ZEBRA’s advocacy subcommittee members to coordinate legislative policies and priorities. \nAll event times are in Eastern Standard Time Zone.
URL:https://zebragrp.org/event/advocacy-subcommittee-meeting-2/
CATEGORIES:Advocacy Subcommittee Meetings
ORGANIZER;CN="Jen Lehmann":MAILTO:Jen@cte.tv
END:VEVENT
BEGIN:VEVENT
DTSTART;TZID=UTC:20220310T140000
DTEND;TZID=UTC:20220310T150000
DTSTAMP:20260426T014658
CREATED:20211230T194651Z
LAST-MODIFIED:20220110T033853Z
UID:855-1646920800-1646924400@zebragrp.org
SUMMARY:Executive Council Meeting
DESCRIPTION:This meeting gathers all of ZEBRA’s executive council members to discuss upcoming events. \nAll event times are in Eastern Standard Time Zone.
URL:https://zebragrp.org/event/executive-council-meeting-7/
ORGANIZER;CN="Chloe Durham":MAILTO:Chloe@cte.tv
END:VEVENT
BEGIN:VEVENT
DTSTART;TZID=UTC:20220120T153000
DTEND;TZID=UTC:20220120T163000
DTSTAMP:20260426T014658
CREATED:20211221T140000Z
LAST-MODIFIED:20220110T034020Z
UID:838-1642692600-1642696200@zebragrp.org
SUMMARY:Full Membership WebEx Meeting
DESCRIPTION:Bi-monthly meetings gather all of ZEBRA membership to hear technical presentations focused on industry concepts and member ZEB deployment updates. \nAll event times are in Eastern Standard Time Zone.
URL:https://zebragrp.org/event/full-membership-webex-meeting-4/
ORGANIZER;CN="Chloe Durham":MAILTO:Chloe@cte.tv
END:VEVENT
BEGIN:VEVENT
DTSTART;TZID=UTC:20220113T140000
DTEND;TZID=UTC:20220113T150000
DTSTAMP:20260426T014658
CREATED:20211221T135749Z
LAST-MODIFIED:20220110T034038Z
UID:836-1642082400-1642086000@zebragrp.org
SUMMARY:Executive Council Meeting
DESCRIPTION:This meeting gathers all of ZEBRA’s executive council members to discuss upcoming events. \nAll event times are in Eastern Standard Time Zone.
URL:https://zebragrp.org/event/executive-council-meeting-6/
ORGANIZER;CN="Chloe Durham":MAILTO:Chloe@cte.tv
END:VEVENT
BEGIN:VEVENT
DTSTART;TZID=UTC:20211216T140000
DTEND;TZID=UTC:20211216T150000
DTSTAMP:20260426T014658
CREATED:20210401T193439Z
LAST-MODIFIED:20210401T193619Z
UID:485-1639663200-1639666800@zebragrp.org
SUMMARY:Executive Council Meeting
DESCRIPTION:This meeting gathers all of ZEBRA’s executive council members to discuss upcoming events.
URL:https://zebragrp.org/event/executive-council-meeting-5/
ORGANIZER;CN="Taylor Pitel":MAILTO:Taylor@cte.tv
END:VEVENT
BEGIN:VEVENT
DTSTART;TZID=UTC:20211118T153000
DTEND;TZID=UTC:20211118T163000
DTSTAMP:20260426T014658
CREATED:20210401T194421Z
LAST-MODIFIED:20210401T194421Z
UID:495-1637249400-1637253000@zebragrp.org
SUMMARY:Full Membership Webex Meeting
DESCRIPTION:Bi-monthly meetings gather all of ZEBRA membership to hear technical presentations focused on industry concepts and member ZEB deployment updates.
URL:https://zebragrp.org/event/full-membership-webex-meeting-2/
END:VEVENT
BEGIN:VEVENT
DTSTART;TZID=UTC:20211014T140000
DTEND;TZID=UTC:20211014T150000
DTSTAMP:20260426T014658
CREATED:20210401T193334Z
LAST-MODIFIED:20210401T193649Z
UID:483-1634220000-1634223600@zebragrp.org
SUMMARY:Executive Council Meeting
DESCRIPTION:This meeting gathers all of ZEBRA’s executive council members to discuss upcoming events.
URL:https://zebragrp.org/event/executive-council-meeting-4/
ORGANIZER;CN="Taylor Pitel":MAILTO:Taylor@cte.tv
END:VEVENT
BEGIN:VEVENT
DTSTART;TZID=UTC:20210819T140000
DTEND;TZID=UTC:20210819T150000
DTSTAMP:20260426T014658
CREATED:20210401T193219Z
LAST-MODIFIED:20210401T193711Z
UID:481-1629381600-1629385200@zebragrp.org
SUMMARY:Executive Council Meeting
DESCRIPTION:This meeting gathers all of ZEBRA’s executive council members to discuss upcoming events.
URL:https://zebragrp.org/event/executive-council-meeting-3/
ORGANIZER;CN="Taylor Pitel":MAILTO:Taylor@cte.tv
END:VEVENT
BEGIN:VEVENT
DTSTART;TZID=UTC:20210715T153000
DTEND;TZID=UTC:20210715T163000
DTSTAMP:20260426T014658
CREATED:20210401T194304Z
LAST-MODIFIED:20210401T194304Z
UID:493-1626363000-1626366600@zebragrp.org
SUMMARY:Full Membership Webex Meeting
DESCRIPTION:Bi-monthly meetings gather all of ZEBRA membership to hear technical presentations focused on industry concepts and member ZEB deployment updates.
URL:https://zebragrp.org/event/full-membership-webex-meeting/
ORGANIZER;CN="Taylor Pitel":MAILTO:Taylor@cte.tv
END:VEVENT
BEGIN:VEVENT
DTSTART;TZID=UTC:20210624T140000
DTEND;TZID=UTC:20210624T150000
DTSTAMP:20260426T014658
CREATED:20210401T193036Z
LAST-MODIFIED:20210401T193742Z
UID:479-1624543200-1624546800@zebragrp.org
SUMMARY:Executive Council Meeting
DESCRIPTION:This meeting gathers all of ZEBRA’s executive council members to discuss upcoming events.
URL:https://zebragrp.org/event/executive-council-meeting-2/
ORGANIZER;CN="Taylor Pitel":MAILTO:Taylor@cte.tv
END:VEVENT
BEGIN:VEVENT
DTSTART;TZID=UTC:20210520T033000
DTEND;TZID=UTC:20210520T163000
DTSTAMP:20260426T014658
CREATED:20210401T194605Z
LAST-MODIFIED:20210401T194605Z
UID:497-1621481400-1621528200@zebragrp.org
SUMMARY:Full Membership Webex Meeting
DESCRIPTION:Bi-monthly meetings gather all of ZEBRA membership to hear technical presentations focused on industry concepts and member ZEB deployment updates.
URL:https://zebragrp.org/event/full-membership-webex-meeting-3/
ORGANIZER;CN="Taylor Pitel":MAILTO:Taylor@cte.tv
END:VEVENT
BEGIN:VEVENT
DTSTART;TZID=Atlantic/South_Georgia:20210413T140000
DTEND;TZID=Atlantic/South_Georgia:20210413T150000
DTSTAMP:20260426T014658
CREATED:20210401T192820Z
LAST-MODIFIED:20210401T193811Z
UID:476-1618322400-1618326000@zebragrp.org
SUMMARY:Executive Council Meeting
DESCRIPTION:This meeting gathers all of ZEBRA’s executive council members to discuss upcoming events.
URL:https://zebragrp.org/event/executive-council-meeting/
ORGANIZER;CN="Taylor Pitel":MAILTO:Taylor@cte.tv
END:VEVENT
BEGIN:VEVENT
DTSTART;TZID=America/Los_Angeles:20200917T133000
DTEND;TZID=America/Los_Angeles:20200917T143000
DTSTAMP:20260426T014658
CREATED:20200821T192555Z
LAST-MODIFIED:20200821T192555Z
UID:469-1600349400-1600353000@zebragrp.org
SUMMARY:ZEBRA Web Conference Meeting
DESCRIPTION:Join the Zero Emission Bus Resource Alliance (ZEBRA) following the Online Zero Emission Bus Conference for a unique opportunity to hear from your transit peers on forward-thinking state zero-emission vehicle (ZEV) policies in the unprecedented times of COVID-19. \nWhen: September 17th @ 1:30 pm PT // 4:30 pm ET \n  \nREGISTER HERE FOR ZEBRA MEETING \n  \nSunLine Transit’s CEO & ZEBRA’s Chair\, Lauren Skiver\, will moderate a panel composed of transit agencies from around the US. Panelists will engage in discussions regarding – \n\nRelevant state ZEV policies\nStrategic ZEB deployment planning\nNavigating COVID-19 uncertainty\n\nNon-ZEBRA member agencies are invited to attend this free virtual ZEBRA meeting to understand the benefits of ZEBRA membership & learn more about the group.
URL:https://zebragrp.org/event/zebra-web-conference-meeting/
END:VEVENT
BEGIN:VEVENT
DTSTART;VALUE=DATE:20181127
DTEND;VALUE=DATE:20181129
DTSTAMP:20260426T014658
CREATED:20180918T035407Z
LAST-MODIFIED:20180918T035407Z
UID:95-1543276800-1543449599@zebragrp.org
SUMMARY:European ZEB Conference
DESCRIPTION:
URL:https://zebragrp.org/event/european-zeb-conference/
LOCATION:Cologne\, Germany
END:VEVENT
BEGIN:VEVENT
DTSTART;VALUE=DATE:20181106
DTEND;VALUE=DATE:20181109
DTSTAMP:20260426T014658
CREATED:20180918T035256Z
LAST-MODIFIED:20180918T035256Z
UID:92-1541462400-1541721599@zebragrp.org
SUMMARY:CALSTART + ESNA
DESCRIPTION:
URL:https://zebragrp.org/event/calstart-esna/
LOCATION:300 E. Green St.\, Pasadena\, CA
END:VEVENT
BEGIN:VEVENT
DTSTART;VALUE=DATE:20181023
DTEND;VALUE=DATE:20181026
DTSTAMP:20260426T014658
CREATED:20180918T035152Z
LAST-MODIFIED:20180918T035152Z
UID:89-1540252800-1540511999@zebragrp.org
SUMMARY:SmartTransit
DESCRIPTION:
URL:https://zebragrp.org/event/smarttransit/
LOCATION:1101 Arch St.\, Philadelphia\, PA
END:VEVENT
BEGIN:VEVENT
DTSTART;VALUE=DATE:20181001
DTEND;VALUE=DATE:20181004
DTSTAMP:20260426T014658
CREATED:20180918T034925Z
LAST-MODIFIED:20180918T034925Z
UID:84-1538352000-1538611199@zebragrp.org
SUMMARY:BusCon 2018
DESCRIPTION:
URL:https://zebragrp.org/event/buscon-2018/
LOCATION:100 S Capitol Ave.\, Indianapolis\, IN
END:VEVENT
BEGIN:VEVENT
DTSTART;VALUE=DATE:20180923
DTEND;VALUE=DATE:20180924
DTSTAMP:20260426T014658
CREATED:20180918T033424Z
LAST-MODIFIED:20180918T033424Z
UID:81-1537660800-1537747199@zebragrp.org
SUMMARY:ZEBRA In-Person Meeting
DESCRIPTION:
URL:https://zebragrp.org/event/zebra-in-person-meeting/
LOCATION:250 5th Avenue S\, Nashville\, TN
END:VEVENT
BEGIN:VEVENT
DTSTART;VALUE=DATE:20180918
DTEND;VALUE=DATE:20180922
DTSTAMP:20260426T014658
CREATED:20180918T033236Z
LAST-MODIFIED:20180918T033236Z
UID:78-1537228800-1537574399@zebragrp.org
SUMMARY:InnoTrans 2018
DESCRIPTION:
URL:https://zebragrp.org/event/innotrans-2018/
LOCATION:Messedamm 22\, Berlin
END:VEVENT
BEGIN:VEVENT
DTSTART;VALUE=DATE:20180910
DTEND;VALUE=DATE:20180912
DTSTAMP:20260426T014658
CREATED:20180918T033108Z
LAST-MODIFIED:20180919T051027Z
UID:75-1536537600-1536710399@zebragrp.org
SUMMARY:2018 American Zero Emission Bus Conference
DESCRIPTION:
URL:https://zebragrp.org/event/2018-american-zero-emission-bus-conference/
LOCATION:1 Gateway Plaza\, Los Angeles\, CA
END:VEVENT
END:VCALENDAR