BEGIN:VCALENDAR
VERSION:2.0
PRODID:-//Zero Emission Bus Resource Alliance - ECPv6.15.20//NONSGML v1.0//EN
CALSCALE:GREGORIAN
METHOD:PUBLISH
X-WR-CALNAME:Zero Emission Bus Resource Alliance
X-ORIGINAL-URL:https://zebragrp.org
X-WR-CALDESC:Events for Zero Emission Bus Resource Alliance
REFRESH-INTERVAL;VALUE=DURATION:PT1H
X-Robots-Tag:noindex
X-PUBLISHED-TTL:PT1H
BEGIN:VTIMEZONE
TZID:America/Los_Angeles
BEGIN:DAYLIGHT
TZOFFSETFROM:-0800
TZOFFSETTO:-0700
TZNAME:PDT
DTSTART:20210314T100000
END:DAYLIGHT
BEGIN:STANDARD
TZOFFSETFROM:-0700
TZOFFSETTO:-0800
TZNAME:PST
DTSTART:20211107T090000
END:STANDARD
BEGIN:DAYLIGHT
TZOFFSETFROM:-0800
TZOFFSETTO:-0700
TZNAME:PDT
DTSTART:20220313T100000
END:DAYLIGHT
BEGIN:STANDARD
TZOFFSETFROM:-0700
TZOFFSETTO:-0800
TZNAME:PST
DTSTART:20221106T090000
END:STANDARD
BEGIN:DAYLIGHT
TZOFFSETFROM:-0800
TZOFFSETTO:-0700
TZNAME:PDT
DTSTART:20230312T100000
END:DAYLIGHT
BEGIN:STANDARD
TZOFFSETFROM:-0700
TZOFFSETTO:-0800
TZNAME:PST
DTSTART:20231105T090000
END:STANDARD
BEGIN:DAYLIGHT
TZOFFSETFROM:-0800
TZOFFSETTO:-0700
TZNAME:PDT
DTSTART:20240310T100000
END:DAYLIGHT
BEGIN:STANDARD
TZOFFSETFROM:-0700
TZOFFSETTO:-0800
TZNAME:PST
DTSTART:20241103T090000
END:STANDARD
BEGIN:DAYLIGHT
TZOFFSETFROM:-0800
TZOFFSETTO:-0700
TZNAME:PDT
DTSTART:20250309T100000
END:DAYLIGHT
BEGIN:STANDARD
TZOFFSETFROM:-0700
TZOFFSETTO:-0800
TZNAME:PST
DTSTART:20251102T090000
END:STANDARD
END:VTIMEZONE
BEGIN:VTIMEZONE
TZID:UTC
BEGIN:STANDARD
TZOFFSETFROM:+0000
TZOFFSETTO:+0000
TZNAME:UTC
DTSTART:20210101T000000
END:STANDARD
END:VTIMEZONE
BEGIN:VTIMEZONE
TZID:America/New_York
BEGIN:DAYLIGHT
TZOFFSETFROM:-0500
TZOFFSETTO:-0400
TZNAME:EDT
DTSTART:20210314T070000
END:DAYLIGHT
BEGIN:STANDARD
TZOFFSETFROM:-0400
TZOFFSETTO:-0500
TZNAME:EST
DTSTART:20211107T060000
END:STANDARD
BEGIN:DAYLIGHT
TZOFFSETFROM:-0500
TZOFFSETTO:-0400
TZNAME:EDT
DTSTART:20220313T070000
END:DAYLIGHT
BEGIN:STANDARD
TZOFFSETFROM:-0400
TZOFFSETTO:-0500
TZNAME:EST
DTSTART:20221106T060000
END:STANDARD
BEGIN:DAYLIGHT
TZOFFSETFROM:-0500
TZOFFSETTO:-0400
TZNAME:EDT
DTSTART:20230312T070000
END:DAYLIGHT
BEGIN:STANDARD
TZOFFSETFROM:-0400
TZOFFSETTO:-0500
TZNAME:EST
DTSTART:20231105T060000
END:STANDARD
BEGIN:DAYLIGHT
TZOFFSETFROM:-0500
TZOFFSETTO:-0400
TZNAME:EDT
DTSTART:20240310T070000
END:DAYLIGHT
BEGIN:STANDARD
TZOFFSETFROM:-0400
TZOFFSETTO:-0500
TZNAME:EST
DTSTART:20241103T060000
END:STANDARD
END:VTIMEZONE
BEGIN:VEVENT
DTSTART;TZID=America/Los_Angeles:20240208T110000
DTEND;TZID=America/Los_Angeles:20240208T120000
DTSTAMP:20260426T015723
CREATED:20231228T205723Z
LAST-MODIFIED:20231228T210410Z
UID:1225-1707390000-1707393600@zebragrp.org
SUMMARY:Executive Council Bi-Monthly Meeting
DESCRIPTION:This time will be used for our bi-monthly Executive Council Meeting. \nAll event times are in Pacific Standard Time Zone. \nZoom Link: https://ctetv.zoom.us/j/85469788151?pwd=bxRh9GoiicaZ0B3dmRQJlRHI7F35Ml.1
URL:https://zebragrp.org/event/executive-council-bi-monthly-meeting/
CATEGORIES:Executive Council Meetings
END:VEVENT
BEGIN:VEVENT
DTSTART;VALUE=DATE:20240204
DTEND;VALUE=DATE:20240205
DTSTAMP:20260426T015723
CREATED:20240220T125941Z
LAST-MODIFIED:20240220T130313Z
UID:1260-1707004800-1707091199@zebragrp.org
SUMMARY:Transit Equity Day
DESCRIPTION:Transit Equity Day commemorates the birthday of civil rights activist Rosa Parks and serves as a reminder of the importance of equity and sustainability within public transit on a national level.
URL:https://zebragrp.org/event/transit-equity-day/
END:VEVENT
BEGIN:VEVENT
DTSTART;TZID=America/Los_Angeles:20240118T123000
DTEND;TZID=America/Los_Angeles:20240118T133000
DTSTAMP:20260426T015723
CREATED:20231228T205400Z
LAST-MODIFIED:20231228T212554Z
UID:1223-1705581000-1705584600@zebragrp.org
SUMMARY:Full Membership Web Meeting
DESCRIPTION:Quarterly meetings gather all of ZEBRA membership to hear technical presentations focused on industry concepts and member ZEB deployment updates. \nAll events are in Pacific Standard Time Zone. \nZoom Link: https://ctetv.zoom.us/j/7530622280
URL:https://zebragrp.org/event/full-membership-web-meeting-6/
CATEGORIES:Membership Web Meetings
END:VEVENT
BEGIN:VEVENT
DTSTART;TZID=America/Los_Angeles:20231228T123000
DTEND;TZID=America/Los_Angeles:20231228T133000
DTSTAMP:20260426T015723
CREATED:20231228T211647Z
LAST-MODIFIED:20231228T211647Z
UID:1239-1703766600-1703770200@zebragrp.org
SUMMARY:Full Membership Web Meeting
DESCRIPTION:Quarterly meetings gather all of ZEBRA membership to hear technical presentations focused on industry concepts and member ZEB deployment updates. \nAll event times are in Pacific Standard Time Zone. \nZoom Link: https://ctetv.zoom.us/j/7530622280
URL:https://zebragrp.org/event/full-membership-web-meeting-8/
CATEGORIES:Membership Web Meetings
END:VEVENT
BEGIN:VEVENT
DTSTART;TZID=America/New_York:20231019T153000
DTEND;TZID=America/New_York:20231019T163000
DTSTAMP:20260426T015723
CREATED:20230106T162823Z
LAST-MODIFIED:20230106T162823Z
UID:1103-1697729400-1697733000@zebragrp.org
SUMMARY:Full Membership Web Meeting
DESCRIPTION:Quarterly meetings gather all of ZEBRA membership to hear technical presentations focused on industry concepts and member ZEB deployment updates. \nAll event times are in Eastern Standard Time Zone.
URL:https://zebragrp.org/event/full-membership-web-meeting-4/
CATEGORIES:Membership Web Meetings
ORGANIZER;CN="Alyssa Fritts":MAILTO:info@zebragrp.org
END:VEVENT
BEGIN:VEVENT
DTSTART;VALUE=DATE:20230926
DTEND;VALUE=DATE:20230929
DTSTAMP:20260426T015723
CREATED:20230607T180257Z
LAST-MODIFIED:20230607T180257Z
UID:1179-1695686400-1695945599@zebragrp.org
SUMMARY:Zero Emission Bus Conference (ZEB Con)
DESCRIPTION:Hosted in San Diego\, CA for 2023\, ZEB Con is the premier event for transportation professionals leading the charge to electrification. \nFrom initial community advocacy to electrifying a full depot and managing on-going ZEB operations\, conference content spans the entire journey to zero-emission. Great opportunities to network and explore the San Diego area! \nRegister Here! 
URL:https://zebragrp.org/event/zero-emission-bus-conference-zeb-con/
END:VEVENT
BEGIN:VEVENT
DTSTART;VALUE=DATE:20230717
DTEND;VALUE=DATE:20230719
DTSTAMP:20260426T015723
CREATED:20230607T175909Z
LAST-MODIFIED:20230607T180116Z
UID:1174-1689552000-1689724799@zebragrp.org
SUMMARY:Energy Management Roundtable
DESCRIPTION:Join us in Montgomery County\, Maryland! \nZEBRA\, in coordination with our host agency Montgomery County\, invite you to an Energy Management Roundtable on July 17 & 18\, 2023. ZEBRA event registration is FREE to current members\, simply RSVP below. \nThis summer’s roundtable will highlight a top question ZEBRA members are asking as their electric fleets grow: How will I manage energy and charging at my facility? Our invited speakers will focus on charge management\, microgrid\, and battery storage solutions to answer your energy management questions. \nAttendee Activities \n\nTwo days of private roundtable sessions between a single energy management solution provider with all ZEBRA members\nCTE technical support to help breakdown the conversation – CTE will moderate scripted questions and open dialogue\, ZEBRA members have the chance to ask questions\, then ZEBRA members recap privately once the firm leaves the room\nA tour of Montgomery County’s ZEB facilities\nBreakfast & lunch both days\nA networking reception with vendors\, good conversation\, food\, & fun on July 17th\n\nNote: Prospective ZEBRA member transit agencies are invited to attend this event as a one-time FREE sample of ZEBRA events and to understand the benefits of membership. Feel free to share with a transit friend. \nRSVP Here!
URL:https://zebragrp.org/event/1174/
CATEGORIES:Events
END:VEVENT
BEGIN:VEVENT
DTSTART;TZID=America/New_York:20230615T153000
DTEND;TZID=America/New_York:20230615T163000
DTSTAMP:20260426T015723
CREATED:20230106T162604Z
LAST-MODIFIED:20230106T162604Z
UID:1101-1686843000-1686846600@zebragrp.org
SUMMARY:Full Membership Web Meeting
DESCRIPTION:Quarterly meetings gather all of ZEBRA membership to hear technical presentations focused on industry concepts and member ZEB deployment updates. \nAll event times are in Eastern Standard Time Zone.
URL:https://zebragrp.org/event/full-membership-web-meeting-3/
CATEGORIES:Membership Web Meetings
ORGANIZER;CN="Alyssa Fritts":MAILTO:info@zebragrp.org
END:VEVENT
BEGIN:VEVENT
DTSTART;VALUE=DATE:20230516
DTEND;VALUE=DATE:20230521
DTSTAMP:20260426T015723
CREATED:20220609T162524Z
LAST-MODIFIED:20220609T162524Z
UID:1038-1684195200-1684627199@zebragrp.org
SUMMARY:National Transportation Week (NTW)
DESCRIPTION:National Transportation Week (NTW) was first designated by Congress more than 30 years ago to draw public attention to transportation issues. NTW is a great opportunity to sponsor community events\, conduct outreach to schools\, increase public awareness\, and encourage careers in transportation.
URL:https://zebragrp.org/event/national-transportation-week-ntw/
CATEGORIES:Events
END:VEVENT
BEGIN:VEVENT
DTSTART;TZID=UTC:20230426T123000
DTEND;TZID=UTC:20230426T170000
DTSTAMP:20260426T015723
CREATED:20230316T174749Z
LAST-MODIFIED:20230316T174911Z
UID:1136-1682512200-1682528400@zebragrp.org
SUMMARY:Bus OEM Roundtable
DESCRIPTION:ZEBRA\, in partnership with APTA’s 2023 Mobility Conference\, is hosting a Bus OEM Roundtable on April 26th\, 2023. Attendees will participate in an afternoon of private roundtable sessions between a single bus OEM and audience members\, with CTE technical support to help break down the conversation. Afternoon snacks and refreshments will be provided. This event will take place at the Minneapolis Hilton – specific room directions will be emailed to attendees ahead of the event. \nRegistration is free for current ZEBRA members. Prospective ZEBRA members and/or APTA member transit agencies are invited to attend this event as a one-time free sample of ZEBRA events and to understand the benefits of membership. Feel free to share with transit friend. \nRSVP HERE.
URL:https://zebragrp.org/event/bus-oem-roundtable/
LOCATION:Minneapolis\, MN
END:VEVENT
BEGIN:VEVENT
DTSTART;TZID=UTC:20230425T173000
DTEND;TZID=UTC:20230425T193000
DTSTAMP:20260426T015723
CREATED:20230316T174216Z
LAST-MODIFIED:20230316T174216Z
UID:1133-1682443800-1682451000@zebragrp.org
SUMMARY:Zero Emission Bus Happy Hour
DESCRIPTION:Join ZEBRA and CTE for a Zero Emission Bus Happy Hour during the APTA Mobility Conference. Happy Hour will be hosted at Brit’s Pub (1110 Nicollet Mall\, Minneapolis) from 5:30pm – 7:30pm. \nThis event is open to all ZEBRA members and attendees of the APTA Mobility Conference. Please RSVP HERE by April 20th.
URL:https://zebragrp.org/event/zero-emission-bus-happy-hour/
LOCATION:Minneapolis\, MN
END:VEVENT
BEGIN:VEVENT
DTSTART;TZID=America/New_York:20230420T153000
DTEND;TZID=America/New_York:20230420T163000
DTSTAMP:20260426T015723
CREATED:20230106T162327Z
LAST-MODIFIED:20230106T162327Z
UID:1099-1682004600-1682008200@zebragrp.org
SUMMARY:Full Membership Web Meeting
DESCRIPTION:Quarterly meetings gather all of ZEBRA membership to hear technical presentations focused on industry concepts and member ZEB deployment updates. \nAll event times are in Eastern Standard Time Zone.
URL:https://zebragrp.org/event/full-membership-web-meeting-2/
CATEGORIES:Membership Web Meetings
ORGANIZER;CN="Alyssa Fritts":MAILTO:info@zebragrp.org
END:VEVENT
BEGIN:VEVENT
DTSTART;TZID=America/New_York:20230210T130000
DTEND;TZID=America/New_York:20230210T140000
DTSTAMP:20260426T015723
CREATED:20221222T221719Z
LAST-MODIFIED:20221222T221719Z
UID:1092-1676034000-1676037600@zebragrp.org
SUMMARY:Advocacy Subcommittee Meeting
DESCRIPTION:Monthly meetings gather ZEBRA’s advocacy subcommittee members to coordinate legislative policies and priorities. \nAll event times are in Eastern Standard Time Zone.
URL:https://zebragrp.org/event/advocacy-subcommittee-meeting-11/
CATEGORIES:Advocacy Subcommittee Meetings
ORGANIZER;CN="Alyssa Fritts":MAILTO:info@zebragrp.org
END:VEVENT
BEGIN:VEVENT
DTSTART;TZID=America/New_York:20230119T153000
DTEND;TZID=America/New_York:20230119T163000
DTSTAMP:20260426T015723
CREATED:20230106T162156Z
LAST-MODIFIED:20230106T162156Z
UID:1097-1674142200-1674145800@zebragrp.org
SUMMARY:Full Membership Web Meeting
DESCRIPTION:Quarterly meetings gather all of ZEBRA membership to hear technical presentations focused on industry concepts and member ZEB deployment updates. \nAll event times are in Eastern Standard Time Zone.
URL:https://zebragrp.org/event/full-membership-web-meeting/
CATEGORIES:Membership Web Meetings
ORGANIZER;CN="Alyssa Fritts":MAILTO:info@zebragrp.org
END:VEVENT
BEGIN:VEVENT
DTSTART;TZID=America/Los_Angeles:20230112T140000
DTEND;TZID=America/Los_Angeles:20230112T150000
DTSTAMP:20260426T015723
CREATED:20221222T221050Z
LAST-MODIFIED:20221222T221211Z
UID:1088-1673532000-1673535600@zebragrp.org
SUMMARY:Executive Council Meeting
DESCRIPTION:This meeting gathers all of ZEBRA’s executive council members to discuss upcoming events. All event times are in Eastern Standard Time Zone.
URL:https://zebragrp.org/event/executive-council-meeting-9/
CATEGORIES:Executive Council Meetings
ORGANIZER;CN="Alyssa Fritts":MAILTO:info@zebragrp.org
END:VEVENT
BEGIN:VEVENT
DTSTART;TZID=America/New_York:20221209T130000
DTEND;TZID=America/New_York:20221209T140000
DTSTAMP:20260426T015723
CREATED:20220309T014358Z
LAST-MODIFIED:20221103T151159Z
UID:988-1670590800-1670594400@zebragrp.org
SUMMARY:Advocacy Subcommittee Meeting
DESCRIPTION:December 9th meeting canceled.  \nMonthly meetings gather ZEBRA’s advocacy subcommittee members to coordinate legislative policies and priorities. \nAll event times are in Eastern Standard Time Zone.
URL:https://zebragrp.org/event/advocacy-subcommittee-meeting-10/
CATEGORIES:Advocacy Subcommittee Meetings
ORGANIZER;CN="Jen Lehmann":MAILTO:Jen@cte.tv
END:VEVENT
BEGIN:VEVENT
DTSTART;TZID=America/New_York:20221111T130000
DTEND;TZID=America/New_York:20221111T140000
DTSTAMP:20260426T015723
CREATED:20220309T014251Z
LAST-MODIFIED:20221103T151812Z
UID:986-1668171600-1668175200@zebragrp.org
SUMMARY:Advocacy Subcommittee Meeting
DESCRIPTION:November 11th meeting canceled.  \nMonthly meetings gather ZEBRA’s advocacy subcommittee members to coordinate legislative policies and priorities. \nAll event times are in Eastern Standard Time Zone.
URL:https://zebragrp.org/event/advocacy-subcommittee-meeting-9/
CATEGORIES:Advocacy Subcommittee Meetings
ORGANIZER;CN="Jen Lehmann":MAILTO:Jen@cte.tv
END:VEVENT
BEGIN:VEVENT
DTSTART;TZID=America/New_York:20221110T140000
DTEND;TZID=America/New_York:20221110T150000
DTSTAMP:20260426T015723
CREATED:20211230T195451Z
LAST-MODIFIED:20221103T152050Z
UID:863-1668088800-1668092400@zebragrp.org
SUMMARY:Executive Council Meeting
DESCRIPTION:This meeting gathers all of ZEBRA’s executive council members to discuss upcoming events. \nAll event times are in Eastern Standard Time Zone.
URL:https://zebragrp.org/event/executive-council-meeting-11/
ORGANIZER;CN="Alyssa Fritts":MAILTO:info@zebragrp.org
END:VEVENT
BEGIN:VEVENT
DTSTART;TZID=UTC:20221020T153000
DTEND;TZID=UTC:20221020T163000
DTSTAMP:20260426T015723
CREATED:20211230T195829Z
LAST-MODIFIED:20220110T033558Z
UID:869-1666279800-1666283400@zebragrp.org
SUMMARY:Full Membership WebEx Meeting
DESCRIPTION:Bi-monthly meetings gather all of ZEBRA membership to hear technical presentations focused on industry concepts and member ZEB deployment updates. \nAll event times are in Eastern Standard Time Zone.
URL:https://zebragrp.org/event/full-membership-webex-meeting-7/
ORGANIZER;CN="Chloe Durham":MAILTO:Chloe@cte.tv
END:VEVENT
BEGIN:VEVENT
DTSTART;TZID=America/New_York:20221014T130000
DTEND;TZID=America/New_York:20221014T140000
DTSTAMP:20260426T015723
CREATED:20220309T014018Z
LAST-MODIFIED:20220309T014018Z
UID:983-1665752400-1665756000@zebragrp.org
SUMMARY:Advocacy Subcommittee Meeting
DESCRIPTION:Monthly meetings gather ZEBRA’s advocacy subcommittee members to coordinate legislative policies and priorities. \nAll event times are in Eastern Standard Time Zone.
URL:https://zebragrp.org/event/advocacy-subcommittee-meeting-8/
CATEGORIES:Advocacy Subcommittee Meetings
ORGANIZER;CN="Jen Lehmann":MAILTO:Jen@cte.tv
END:VEVENT
BEGIN:VEVENT
DTSTART;VALUE=DATE:20220919
DTEND;VALUE=DATE:20220922
DTSTAMP:20260426T015723
CREATED:20220609T162725Z
LAST-MODIFIED:20220609T163113Z
UID:1040-1663545600-1663804799@zebragrp.org
SUMMARY:2022 Zero Emission Bus Conference (ZEBCon)
DESCRIPTION:Hosted in Anaheim\, CA for 2022\, ZEBCon is the primary event for professionals in the zero-emission industry – equipping school\, transit\, and shuttle bus operators with the necessary tools and knowledge for fleet electrification. Free onsite tours of both BEB and FCEB deployments and supplier manufacturing sites will be available for attendees. Engage and network with industry professionals during panel sessions\, Q&A\, case study presentations\, and critical conversations covering industry hot topics. \nWebsite link included below to register!
URL:https://zebragrp.org/event/zero-emission-bus-conference-zebcon/
CATEGORIES:Events
ORGANIZER;CN="Rae Bucher":MAILTO:rae@cte.tv
END:VEVENT
BEGIN:VEVENT
DTSTART;TZID=America/New_York:20220909T130000
DTEND;TZID=America/New_York:20220909T140000
DTSTAMP:20260426T015723
CREATED:20220309T013824Z
LAST-MODIFIED:20220309T013824Z
UID:980-1662728400-1662732000@zebragrp.org
SUMMARY:Advocacy Subcommittee Meeting
DESCRIPTION:Monthly meetings gather ZEBRA’s advocacy subcommittee members to coordinate legislative policies and priorities. \nAll event times are in Eastern Standard Time Zone.
URL:https://zebragrp.org/event/advocacy-subcommittee-meeting-7/
CATEGORIES:Advocacy Subcommittee Meetings
ORGANIZER;CN="Jen Lehmann":MAILTO:Jen@cte.tv
END:VEVENT
BEGIN:VEVENT
DTSTART;TZID=UTC:20220908T140000
DTEND;TZID=UTC:20220908T150000
DTSTAMP:20260426T015723
CREATED:20211230T195348Z
LAST-MODIFIED:20220110T033632Z
UID:861-1662645600-1662649200@zebragrp.org
SUMMARY:Executive Council Meeting
DESCRIPTION:This meeting gathers all of ZEBRA’s executive council members to discuss upcoming events. \nAll event times are in Eastern Standard Time Zone.
URL:https://zebragrp.org/event/executive-council-meeting-10/
ORGANIZER;CN="Chloe Durham":MAILTO:Chloe@cte.tv
END:VEVENT
BEGIN:VEVENT
DTSTART;TZID=America/New_York:20220812T130000
DTEND;TZID=America/New_York:20220812T140000
DTSTAMP:20260426T015723
CREATED:20220309T013711Z
LAST-MODIFIED:20220309T013711Z
UID:978-1660309200-1660312800@zebragrp.org
SUMMARY:Advocacy Subcommittee Meeting
DESCRIPTION:Monthly meetings gather ZEBRA’s advocacy subcommittee members to coordinate legislative policies and priorities. \nAll event times are in Eastern Standard Time Zone.
URL:https://zebragrp.org/event/advocacy-subcommittee-meeting-6/
CATEGORIES:Advocacy Subcommittee Meetings
ORGANIZER;CN="Jen Lehmann":MAILTO:Jen@cte.tv
END:VEVENT
BEGIN:VEVENT
DTSTART;TZID=America/Los_Angeles:20220714T090000
DTEND;TZID=America/Los_Angeles:20220715T140000
DTSTAMP:20260426T015723
CREATED:20220525T212739Z
LAST-MODIFIED:20220527T141445Z
UID:1010-1657789200-1657893600@zebragrp.org
SUMMARY:A&E Infrastructure Roundtable Event
DESCRIPTION:ZEBRA in coordination with host agency\, TriMet will be holding a two-day roundtable event in Portland\, OR focused on A&E infrastructure firms. Roundtables are a unique way for vendors to share industry information and participate in candid interview sessions with ZEBRA members. Email jen@cte.tv to request hotel information and click on the website link in the Details section to RSVP. \nNote: Prospective ZEBRA member transit agencies are invited to attend this event as a one-time FREE sample of ZEBRA events to understand the benefits of membership. Feel free to share with a transit friend.
URL:https://zebragrp.org/event/ae-infrastructure-roundtable-event/
ORGANIZER;CN="Jen Lehmann":MAILTO:Jen@cte.tv
END:VEVENT
BEGIN:VEVENT
DTSTART;TZID=America/New_York:20220708T130000
DTEND;TZID=America/New_York:20220708T140000
DTSTAMP:20260426T015723
CREATED:20220309T013408Z
LAST-MODIFIED:20220309T013408Z
UID:976-1657285200-1657288800@zebragrp.org
SUMMARY:Advocacy Subcommittee Meeting
DESCRIPTION:Monthly meetings gather ZEBRA’s advocacy subcommittee members to coordinate legislative policies and priorities. \nAll event times are in Eastern Standard Time Zone.
URL:https://zebragrp.org/event/advocacy-subcommittee-meeting-5/
CATEGORIES:Advocacy Subcommittee Meetings
ORGANIZER;CN="Jen Lehmann":MAILTO:Jen@cte.tv
END:VEVENT
BEGIN:VEVENT
DTSTART;TZID=America/New_York:20220622T090000
DTEND;TZID=America/New_York:20220622T170000
DTSTAMP:20260426T015723
CREATED:20220606T194600Z
LAST-MODIFIED:20220606T194600Z
UID:1022-1655888400-1655917200@zebragrp.org
SUMMARY:APTA Legislative Advocacy Fly-In
DESCRIPTION:Legislative Advocacy Day is a hybrid event for public transportation and passenger rail industry professionals across the nation to make our presence felt and our voices heard in Washington\, DC. As Congress advances the FY2023 Transportation\, Housing and Urban Development\, and Related Agencies (THUD) Appropriations bill and critical legislation\, Advocacy Day is an important opportunity to connect with your Congressional delegation in-person or virtually.
URL:https://zebragrp.org/event/apta-legislative-advocacy-fly-in/
LOCATION:Washington\, DC
CATEGORIES:Advocacy Subcommittee Meetings
ORGANIZER;CN="Jen Lehmann":MAILTO:Jen@cte.tv
END:VEVENT
BEGIN:VEVENT
DTSTART;TZID=UTC:20220616T153000
DTEND;TZID=UTC:20220616T163000
DTSTAMP:20260426T015723
CREATED:20211230T195730Z
LAST-MODIFIED:20220110T033720Z
UID:867-1655393400-1655397000@zebragrp.org
SUMMARY:Full Membership WebEx Meeting
DESCRIPTION:Bi-monthly meetings gather all of ZEBRA membership to hear technical presentations focused on industry concepts and member ZEB deployment updates. \nAll event times are in Eastern Standard Time Zone.
URL:https://zebragrp.org/event/full-membership-webex-meeting-6/
ORGANIZER;CN="Chloe Durham":MAILTO:Chloe@cte.tv
END:VEVENT
BEGIN:VEVENT
DTSTART;TZID=America/New_York:20220610T130000
DTEND;TZID=America/New_York:20220610T140000
DTSTAMP:20260426T015723
CREATED:20220309T013212Z
LAST-MODIFIED:20220309T013212Z
UID:974-1654866000-1654869600@zebragrp.org
SUMMARY:Advocacy Subcommittee Meeting
DESCRIPTION:Monthly meetings gather ZEBRA’s advocacy subcommittee members to coordinate legislative policies and priorities. \nAll event times are in Eastern Standard Time Zone.
URL:https://zebragrp.org/event/advocacy-subcommittee-meeting-4/
CATEGORIES:Advocacy Subcommittee Meetings
ORGANIZER;CN="Jen Lehmann":MAILTO:Jen@cte.tv
END:VEVENT
BEGIN:VEVENT
DTSTART;TZID=America/New_York:20220513T130000
DTEND;TZID=America/New_York:20220513T140000
DTSTAMP:20260426T015723
CREATED:20220309T013113Z
LAST-MODIFIED:20220309T013113Z
UID:972-1652446800-1652450400@zebragrp.org
SUMMARY:Advocacy Subcommittee Meeting
DESCRIPTION:Monthly meetings gather ZEBRA’s advocacy subcommittee members to coordinate legislative policies and priorities. \nAll event times are in Eastern Standard Time Zone.
URL:https://zebragrp.org/event/advocacy-subcommittee-meeting-3/
CATEGORIES:Advocacy Subcommittee Meetings
ORGANIZER;CN="Jen Lehmann":MAILTO:Jen@cte.tv
END:VEVENT
END:VCALENDAR