BEGIN:VCALENDAR
VERSION:2.0
PRODID:-//Zero Emission Bus Resource Alliance - ECPv6.15.20//NONSGML v1.0//EN
CALSCALE:GREGORIAN
METHOD:PUBLISH
X-WR-CALNAME:Zero Emission Bus Resource Alliance
X-ORIGINAL-URL:https://zebragrp.org
X-WR-CALDESC:Events for Zero Emission Bus Resource Alliance
REFRESH-INTERVAL;VALUE=DURATION:PT1H
X-Robots-Tag:noindex
X-PUBLISHED-TTL:PT1H
BEGIN:VTIMEZONE
TZID:UTC
BEGIN:STANDARD
TZOFFSETFROM:+0000
TZOFFSETTO:+0000
TZNAME:UTC
DTSTART:20230101T000000
END:STANDARD
END:VTIMEZONE
BEGIN:VEVENT
DTSTART;TZID=UTC:20250929T080000
DTEND;TZID=UTC:20250930T153000
DTSTAMP:20260425T225409
CREATED:20250603T195222Z
LAST-MODIFIED:20250609T135344Z
UID:1398-1759132800-1759246200@zebragrp.org
SUMMARY:Fall 2025 Roundtable - Everett\, WA
DESCRIPTION:The final ZEBRA Roundtable of 2025 will be co-hosted by member agencies King County Metro and Community Transit\, in Everett\, WA. The event will take place on September 29 & 30th\, 2025 at the Hotel Indigo – Everett. \nZEBRA’s roundtable events are a unique way for vendors to share industry information and participate in candid interview sessions with ZEBRA members. Join us to learn about the latest industry updates and see real-world examples of innovation in action. \nMonday\, September 29 – Day one will highlight resilience planning\, safety\, and skills training\, focusing on the latest in: \n\nWorkforce development and training programs\nSafety products and services\nResilience planning and infrastructure\n\nTuesday\, September 30 – Day two will spotlight hydrogen trailblazers that offer unique products and solutions that will revolutionize the industry! \nJoin us! This event is FREE for ZEBRA members. Register HERE to attend!
URL:https://zebragrp.org/event/fall-2025-roundtable-everett-wa/
LOCATION:Hotel Indigo Seattle Everett Waterfront\, 1028 13th Street\, Everett\, Washington\, 98201\, United States
CATEGORIES:Events,In-Person Roundtable
ORGANIZER;CN="Alyssa Fritts":MAILTO:info@zebragrp.org
END:VEVENT
BEGIN:VEVENT
DTSTART;VALUE=DATE:20250515
DTEND;VALUE=DATE:20250517
DTSTAMP:20260425T225409
CREATED:20250203T203449Z
LAST-MODIFIED:20250203T203449Z
UID:1311-1747267200-1747439999@zebragrp.org
SUMMARY:Innovations in Zero Emission Transit Roundtable
DESCRIPTION:ZEBRA\, in coordination with our host agency Mountain Line invite you to a Innovations in Zero Emission Transit Roundtable on May 15 & 16\, 2025. ZEBRA event registration is FREE to current members. \nNote: Prospective ZEBRA member transit agencies are invited to attend this event as a one-time FREE sample of ZEBRA events and to understand the benefits of membership. Feel free to share with a transit friend. \n  \nRegister here to attend this in-person event!
URL:https://zebragrp.org/event/innovations-in-zero-emission-transit-roundtable/
LOCATION:Hilton Garden Inn Missoula\, 3720 North Reserve Street\, Missoula\, MT\, 59808\, United States
CATEGORIES:In-Person Roundtable
ORGANIZER;CN="Alyssa Fritts":MAILTO:info@zebragrp.org
END:VEVENT
BEGIN:VEVENT
DTSTART;VALUE=DATE:20240611
DTEND;VALUE=DATE:20240613
DTSTAMP:20260425T225409
CREATED:20240418T161538Z
LAST-MODIFIED:20240418T162819Z
UID:1269-1718064000-1718236799@zebragrp.org
SUMMARY:Pivoting to Hydrogen Roundtable
DESCRIPTION:ZEBRA\, in coordination with our host agency Regional Transit Service (RTS) invite you to a Pivoting to Hydrogen Roundtable on June 11th & 12th\, 2024. ZEBRA event registration is FREE to current members. \nThis summer’s roundtable will highlight a top question ZEBRA members are asking as they grow their zero-emission bus fleets and become more interested in hydrogen fuel cell technology: How will I effectively transition to and manage a hydrogen-heavy mixed zero-emission bus fleet? Our invited speakers will focus on hydrogen bus and fueling infrastructure\, OEM updates\, and fuel source solutions to answer your hydrogen bus management questions. Invited speakers include: Trillium\, Clean Energy\, Plug Power\, Messer\, & more! \nAttendee Activities Include: \n\nTwo days of private roundtable sessions between hydrogen bus and infrastructure solution providers with all attendees\nCTE technical support to help breakdown the conversation – CTE will moderate scripted questions and open dialogue\, ZEBRA members have the chance to ask questions\, then ZEBRA members recap privately once the {rm leaves the room\nA tour of Regional Transit Service’s ZEB facilities\nBreakfast & lunch both days\nA networking reception with vendors\, good conversation\, food\, & fun on June 11th\n\nNote: Prospective ZEBRA member transit agencies are invited to attend this event as a one-time FREE sample of ZEBRA events and to understand the benefits of membership. Feel free to share with a transit friend. \nRegister here to attend this in-person event! \n 
URL:https://zebragrp.org/event/pivoting-to-hydrogen-roundtable/
CATEGORIES:In-Person Roundtable
ORGANIZER;CN="Alyssa Fritts":MAILTO:info@zebragrp.org
END:VEVENT
END:VCALENDAR